BEGIN:VCALENDAR
VERSION:2.0
PRODID:-//La Refile - ECPv5.2.0//NONSGML v1.0//EN
CALSCALE:GREGORIAN
METHOD:PUBLISH
X-WR-CALNAME:La Refile
X-ORIGINAL-URL:https://larefile.fr
X-WR-CALDESC:évènements pour La Refile
BEGIN:VTIMEZONE
TZID:Europe/Paris
BEGIN:DAYLIGHT
TZOFFSETFROM:+0100
TZOFFSETTO:+0200
TZNAME:CEST
DTSTART:20240331T010000
END:DAYLIGHT
BEGIN:STANDARD
TZOFFSETFROM:+0200
TZOFFSETTO:+0100
TZNAME:CET
DTSTART:20241027T010000
END:STANDARD
END:VTIMEZONE
BEGIN:VEVENT
DTSTART;TZID=Europe/Paris:20241029T150000
DTEND;TZID=Europe/Paris:20241029T180000
DTSTAMP:20260423T171054
CREATED:20241003T153233Z
LAST-MODIFIED:20241003T153233Z
UID:10647-1730214000-1730224800@larefile.fr
SUMMARY:Stage enfant 29/30/31 octobre
DESCRIPTION:
URL:https://larefile.fr/event/stage-enfant-29-30-31-octobre/2024-10-29/
LOCATION:L’atelier\, 6 rue de Paris\, Meudon\, 92190\, France
END:VEVENT
BEGIN:VEVENT
DTSTART;TZID=Europe/Paris:20241030T150000
DTEND;TZID=Europe/Paris:20241030T180000
DTSTAMP:20260423T171054
CREATED:20241003T153233Z
LAST-MODIFIED:20241003T153233Z
UID:10649-1730300400-1730311200@larefile.fr
SUMMARY:Stage enfant 29/30/31 octobre
DESCRIPTION:
URL:https://larefile.fr/event/stage-enfant-29-30-31-octobre/2024-10-30/
LOCATION:L’atelier\, 6 rue de Paris\, Meudon\, 92190\, France
END:VEVENT
BEGIN:VEVENT
DTSTART;TZID=Europe/Paris:20241031T150000
DTEND;TZID=Europe/Paris:20241031T180000
DTSTAMP:20260423T171054
CREATED:20241003T153233Z
LAST-MODIFIED:20241003T153233Z
UID:10650-1730386800-1730397600@larefile.fr
SUMMARY:Stage enfant 29/30/31 octobre
DESCRIPTION:
URL:https://larefile.fr/event/stage-enfant-29-30-31-octobre/2024-10-31/
LOCATION:L’atelier\, 6 rue de Paris\, Meudon\, 92190\, France
END:VEVENT
BEGIN:VEVENT
DTSTART;TZID=Europe/Paris:20241106T133000
DTEND;TZID=Europe/Paris:20241106T153000
DTSTAMP:20260423T171054
CREATED:20220901T113400Z
LAST-MODIFIED:20241003T144745Z
UID:8330-1730899800-1730907000@larefile.fr
SUMMARY:Ateliers enfants
DESCRIPTION:Cours de couture à partir de 8 ans \nMatériel et tissu récupérés par la refile fournis \nRéservation et paiement annuel sur place a la boutique
URL:https://larefile.fr/event/ateliers-filous/2024-11-06/
LOCATION:L’atelier\, 6 rue de Paris\, Meudon\, 92190\, France
END:VEVENT
BEGIN:VEVENT
DTSTART;TZID=Europe/Paris:20241106T154500
DTEND;TZID=Europe/Paris:20241106T174500
DTSTAMP:20260423T171054
CREATED:20241003T144840Z
LAST-MODIFIED:20241003T144840Z
UID:10577-1730907900-1730915100@larefile.fr
SUMMARY:Atelier enfants
DESCRIPTION:cours de couture à partir de 8 ans \nTous le matériel et tissu récupérés par la refile sont fournis \nRéservation et paiement annuel sur place a la boutique
URL:https://larefile.fr/event/atelier-enfants/2024-11-06/
LOCATION:L’atelier\, 6 rue de Paris\, Meudon\, 92190\, France
ATTACH;FMTTYPE=image/jpeg:https://larefile.fr/wp-content/uploads/2020/09/filouterie.jpg
END:VEVENT
BEGIN:VEVENT
DTSTART;TZID=Europe/Paris:20241113T133000
DTEND;TZID=Europe/Paris:20241113T153000
DTSTAMP:20260423T171054
CREATED:20220901T113400Z
LAST-MODIFIED:20241003T144745Z
UID:10587-1731504600-1731511800@larefile.fr
SUMMARY:Ateliers enfants
DESCRIPTION:Cours de couture à partir de 8 ans \nMatériel et tissu récupérés par la refile fournis \nRéservation et paiement annuel sur place a la boutique
URL:https://larefile.fr/event/ateliers-filous/2024-11-13/
LOCATION:L’atelier\, 6 rue de Paris\, Meudon\, 92190\, France
END:VEVENT
BEGIN:VEVENT
DTSTART;TZID=Europe/Paris:20241113T154500
DTEND;TZID=Europe/Paris:20241113T174500
DTSTAMP:20260423T171054
CREATED:20241003T144840Z
LAST-MODIFIED:20241003T144840Z
UID:10600-1731512700-1731519900@larefile.fr
SUMMARY:Atelier enfants
DESCRIPTION:cours de couture à partir de 8 ans \nTous le matériel et tissu récupérés par la refile sont fournis \nRéservation et paiement annuel sur place a la boutique
URL:https://larefile.fr/event/atelier-enfants/2024-11-13/
LOCATION:L’atelier\, 6 rue de Paris\, Meudon\, 92190\, France
ATTACH;FMTTYPE=image/jpeg:https://larefile.fr/wp-content/uploads/2020/09/filouterie.jpg
END:VEVENT
BEGIN:VEVENT
DTSTART;TZID=Europe/Paris:20241120T133000
DTEND;TZID=Europe/Paris:20241120T153000
DTSTAMP:20260423T171054
CREATED:20220901T113400Z
LAST-MODIFIED:20241003T144745Z
UID:10588-1732109400-1732116600@larefile.fr
SUMMARY:Ateliers enfants
DESCRIPTION:Cours de couture à partir de 8 ans \nMatériel et tissu récupérés par la refile fournis \nRéservation et paiement annuel sur place a la boutique
URL:https://larefile.fr/event/ateliers-filous/2024-11-20/
LOCATION:L’atelier\, 6 rue de Paris\, Meudon\, 92190\, France
END:VEVENT
BEGIN:VEVENT
DTSTART;TZID=Europe/Paris:20241120T154500
DTEND;TZID=Europe/Paris:20241120T174500
DTSTAMP:20260423T171054
CREATED:20241003T144840Z
LAST-MODIFIED:20241003T144840Z
UID:10601-1732117500-1732124700@larefile.fr
SUMMARY:Atelier enfants
DESCRIPTION:cours de couture à partir de 8 ans \nTous le matériel et tissu récupérés par la refile sont fournis \nRéservation et paiement annuel sur place a la boutique
URL:https://larefile.fr/event/atelier-enfants/2024-11-20/
LOCATION:L’atelier\, 6 rue de Paris\, Meudon\, 92190\, France
ATTACH;FMTTYPE=image/jpeg:https://larefile.fr/wp-content/uploads/2020/09/filouterie.jpg
END:VEVENT
BEGIN:VEVENT
DTSTART;TZID=Europe/Paris:20241127T133000
DTEND;TZID=Europe/Paris:20241127T153000
DTSTAMP:20260423T171054
CREATED:20220901T113400Z
LAST-MODIFIED:20241003T144746Z
UID:10589-1732714200-1732721400@larefile.fr
SUMMARY:Ateliers enfants
DESCRIPTION:Cours de couture à partir de 8 ans \nMatériel et tissu récupérés par la refile fournis \nRéservation et paiement annuel sur place a la boutique
URL:https://larefile.fr/event/ateliers-filous/2024-11-27/
LOCATION:L’atelier\, 6 rue de Paris\, Meudon\, 92190\, France
END:VEVENT
BEGIN:VEVENT
DTSTART;TZID=Europe/Paris:20241127T154500
DTEND;TZID=Europe/Paris:20241127T174500
DTSTAMP:20260423T171054
CREATED:20241003T144840Z
LAST-MODIFIED:20241003T144840Z
UID:10602-1732722300-1732729500@larefile.fr
SUMMARY:Atelier enfants
DESCRIPTION:cours de couture à partir de 8 ans \nTous le matériel et tissu récupérés par la refile sont fournis \nRéservation et paiement annuel sur place a la boutique
URL:https://larefile.fr/event/atelier-enfants/2024-11-27/
LOCATION:L’atelier\, 6 rue de Paris\, Meudon\, 92190\, France
ATTACH;FMTTYPE=image/jpeg:https://larefile.fr/wp-content/uploads/2020/09/filouterie.jpg
END:VEVENT
END:VCALENDAR